BEGIN:VCALENDAR
VERSION:2.0
PRODID:-//libmod.de - Zentrum Liberale Moderne - ECPv6.15.20//NONSGML v1.0//EN
CALSCALE:GREGORIAN
METHOD:PUBLISH
X-WR-CALNAME:libmod.de - Zentrum Liberale Moderne
X-ORIGINAL-URL:https://libmod.de/en/
X-WR-CALDESC:Events for libmod.de - Zentrum Liberale Moderne
REFRESH-INTERVAL;VALUE=DURATION:PT1H
X-Robots-Tag:noindex
X-PUBLISHED-TTL:PT1H
BEGIN:VTIMEZONE
TZID:Europe/Berlin
BEGIN:DAYLIGHT
TZOFFSETFROM:+0100
TZOFFSETTO:+0200
TZNAME:CEST
DTSTART:20250330T010000
END:DAYLIGHT
BEGIN:STANDARD
TZOFFSETFROM:+0200
TZOFFSETTO:+0100
TZNAME:CET
DTSTART:20251026T010000
END:STANDARD
BEGIN:DAYLIGHT
TZOFFSETFROM:+0100
TZOFFSETTO:+0200
TZNAME:CEST
DTSTART:20260329T010000
END:DAYLIGHT
BEGIN:STANDARD
TZOFFSETFROM:+0200
TZOFFSETTO:+0100
TZNAME:CET
DTSTART:20261025T010000
END:STANDARD
BEGIN:DAYLIGHT
TZOFFSETFROM:+0100
TZOFFSETTO:+0200
TZNAME:CEST
DTSTART:20270328T010000
END:DAYLIGHT
BEGIN:STANDARD
TZOFFSETFROM:+0200
TZOFFSETTO:+0100
TZNAME:CET
DTSTART:20271031T010000
END:STANDARD
END:VTIMEZONE
BEGIN:VEVENT
DTSTART;TZID=Europe/Berlin:20260127T163000
DTEND;TZID=Europe/Berlin:20260127T180000
DTSTAMP:20260419T153145
CREATED:20260119T120418Z
LAST-MODIFIED:20260122T131655Z
UID:76822-1769531400-1769536800@libmod.de
SUMMARY:Sustaining Support for Ukraine: Balancing Defence and Reconstruction in a Protracted War  
DESCRIPTION:Sustaining Support for Ukraine: Balancing Defence and Recon­struction in a Protracted War  \nDate: 27 January 2026\, 16:30  \nVenue: Berlin-Mitte \n  \nThe Center for Liberal Modernity cordially invites you to an expert discussion entitled “Sustaining Support for Ukraine: Balancing Defence and Recon­struction in a Protracted War”.  \nWhile Russia’s war against Ukraine continues unabated\, the country’s infra­structure is nearing its breaking point. Since the start of the full-scale invasion\, Ukraine’s energy system has come closer to collapse than ever before\, while transport networks and civilian homes remain the targets of inten­sified air strikes. The number of civilians killed by drones and missiles is reaching new highs.  \nEven as the defence effort continues\, recon­struction must already begin. To secure sustained public support in Ukraine and among its European backers\, politi­cians and experts must find the right balance between defence and recon­struction. They also need to address thorny problems like the corruption risks that come with the influx of large-assis­tance funds or how to disperse funds fairly between Ukraine’s regions with their widely diverging needs.  \nTo set the stage for the discussion\, Igor Popov and Oleksandra Betliy will present their new policy briefs\, “Rebuilding Ukraine: Strategy\, Prior­ities and Recom­men­da­tions” and “Support for Ukraine: Balancing Military and Financial Aid”. These policy briefs are based on the article series “Recon­struction in a state of war – oppor­tu­nities and risks” (in German).  \n\nSpeakers:  \nIgor Popov\, Ukrainian Analyst and Director\, “United Ukraine”\nOleksandra Betliy\, Leading Research Fellow and Project Coordi­nator\, Institute for Economic Research and Policy Consulting\, Kyiv\nUlrike Hopp-Nishanka\, Head of the Task Force Ukraine\, Federal Ministry for Economic Cooper­ation and Devel­opment (BMZ)\nRobert Kirchner\, Deputy Team Leader of the German Economic Team and Leader of the Energy and Climate Team\, Berlin Economics  \nModerator:  \nSimon Schlegel\, Ukraine Program Director\, Center for Liberal Modernity  \nRegis­tration: https://forms.office.com/e/SCXv4GhEam   \nThe discussion will be followed by a reception at 18:00\, offering an oppor­tunity for further exchange and networking.  \n  \nThis event is funded by the Strategic Commu­ni­ca­tions and Advocacy Lab.  \n 
URL:https://libmod.de/en/kalender/sustaining-support-for-ukraine-balancing-defence-and-reconstruction-in-a-protracted-war/
LOCATION:Berlin-Mitte
ATTACH;FMTTYPE=image/jpeg:https://libmodredaktion.fra1.digitaloceanspaces.com/wp-content/uploads/20260119144453/Tschernihiw-800_neu.jpg
END:VEVENT
END:VCALENDAR