BEGIN:VCALENDAR
VERSION:2.0
PRODID:-//libmod.de - Zentrum Liberale Moderne - ECPv6.15.20//NONSGML v1.0//EN
CALSCALE:GREGORIAN
METHOD:PUBLISH
X-WR-CALNAME:libmod.de - Zentrum Liberale Moderne
X-ORIGINAL-URL:https://libmod.de/en/
X-WR-CALDESC:Events for libmod.de - Zentrum Liberale Moderne
REFRESH-INTERVAL;VALUE=DURATION:PT1H
X-Robots-Tag:noindex
X-PUBLISHED-TTL:PT1H
BEGIN:VTIMEZONE
TZID:Europe/Berlin
BEGIN:DAYLIGHT
TZOFFSETFROM:+0100
TZOFFSETTO:+0200
TZNAME:CEST
DTSTART:20250330T010000
END:DAYLIGHT
BEGIN:STANDARD
TZOFFSETFROM:+0200
TZOFFSETTO:+0100
TZNAME:CET
DTSTART:20251026T010000
END:STANDARD
BEGIN:DAYLIGHT
TZOFFSETFROM:+0100
TZOFFSETTO:+0200
TZNAME:CEST
DTSTART:20260329T010000
END:DAYLIGHT
BEGIN:STANDARD
TZOFFSETFROM:+0200
TZOFFSETTO:+0100
TZNAME:CET
DTSTART:20261025T010000
END:STANDARD
BEGIN:DAYLIGHT
TZOFFSETFROM:+0100
TZOFFSETTO:+0200
TZNAME:CEST
DTSTART:20270328T010000
END:DAYLIGHT
BEGIN:STANDARD
TZOFFSETFROM:+0200
TZOFFSETTO:+0100
TZNAME:CET
DTSTART:20271031T010000
END:STANDARD
END:VTIMEZONE
BEGIN:VEVENT
DTSTART;TZID=Europe/Berlin:20260214T111500
DTEND;TZID=Europe/Berlin:20260214T121500
DTSTAMP:20260420T111642
CREATED:20260130T122338Z
LAST-MODIFIED:20260130T123736Z
UID:76947-1771067700-1771071300@libmod.de
SUMMARY:MSC 2026: China and Russia: Indivisible or not? Implications for Europe
DESCRIPTION:  \nINVITATION\nSide Event at the Munich Security Conference \nCHINA AND RUSSIA:\nINDIVISIBLE OR NOT? IMPLICATIONS FOR EUROPE\nYou are invited to a side event hosted by the New Eurasian Strategies Centre and the Center for Liberal Modernity to discuss the nature of the Russia–China relationship and its impli­ca­tions for European security. \nSpeakers:\nSergey Aleksashenko\, Head of Economics\, New Eurasian Strategies Centre\nRalf Fücks\, Managing Director\, Centre for Liberal Modernity\nBobo Lo\, Non-resident Fellow\, Lowy Institute\nJanka Oertel\, Distin­guished Policy Fellow\, European Council on Foreign Relations \nModerated by:\nKatia Glod\, Deputy Head of Foreign Policy\, New Eurasian Strategies Centre\nJohn Lough\, Head of Foreign Policy\, New Eurasian Strategies Centre \nRegis­tration is mandatory and places will be allocated on a first come\, first served basis
URL:https://libmod.de/en/kalender/msc-2026-china-and-russia-indivisible-or-not-implications-for-europe/
LOCATION:Münchner Künstlerhaus\, Lenbachplatz 8\, München\, Bayern\, 80333
ATTACH;FMTTYPE=image/jpeg:https://libmodredaktion.fra1.digitaloceanspaces.com/wp-content/uploads/20260130133032/BaBf1X5o.jpg
END:VEVENT
END:VCALENDAR