BEGIN:VCALENDAR
VERSION:2.0
PRODID:-//libmod.de - Zentrum Liberale Moderne - ECPv6.15.20//NONSGML v1.0//EN
CALSCALE:GREGORIAN
METHOD:PUBLISH
X-WR-CALNAME:libmod.de - Zentrum Liberale Moderne
X-ORIGINAL-URL:https://libmod.de/en/
X-WR-CALDESC:Events for libmod.de - Zentrum Liberale Moderne
REFRESH-INTERVAL;VALUE=DURATION:PT1H
X-Robots-Tag:noindex
X-PUBLISHED-TTL:PT1H
BEGIN:VTIMEZONE
TZID:Europe/Berlin
BEGIN:DAYLIGHT
TZOFFSETFROM:+0100
TZOFFSETTO:+0200
TZNAME:CEST
DTSTART:20230326T010000
END:DAYLIGHT
BEGIN:STANDARD
TZOFFSETFROM:+0200
TZOFFSETTO:+0100
TZNAME:CET
DTSTART:20231029T010000
END:STANDARD
BEGIN:DAYLIGHT
TZOFFSETFROM:+0100
TZOFFSETTO:+0200
TZNAME:CEST
DTSTART:20240331T010000
END:DAYLIGHT
BEGIN:STANDARD
TZOFFSETFROM:+0200
TZOFFSETTO:+0100
TZNAME:CET
DTSTART:20241027T010000
END:STANDARD
BEGIN:DAYLIGHT
TZOFFSETFROM:+0100
TZOFFSETTO:+0200
TZNAME:CEST
DTSTART:20250330T010000
END:DAYLIGHT
BEGIN:STANDARD
TZOFFSETFROM:+0200
TZOFFSETTO:+0100
TZNAME:CET
DTSTART:20251026T010000
END:STANDARD
END:VTIMEZONE
BEGIN:VEVENT
DTSTART;TZID=Europe/Berlin:20241205T110000
DTEND;TZID=Europe/Berlin:20241205T120000
DTSTAMP:20260421T223423
CREATED:20250221T095715Z
LAST-MODIFIED:20250221T095715Z
UID:70366-1733396400-1733400000@libmod.de
SUMMARY:Online-Präsentation der Handreichung POPKULTUR VON RECHTS
DESCRIPTION:Hippe Sneaker auf Nazi-Demos. Memes als recht­sex­treme Provokation. Ein Pop-Hit als rassis­tischer Ohrwurm. Popkultur ist ein wichtiges Feld für die extreme Rechte. Kulturelle Produkte und Symbole werden ideol­o­gisch aufge­laden\, um Gemein­schaft herzustellen und Inter­essierte anzuwerben. Die popkul­turelle Verpackung ermöglicht es\, menschen­feindliche Inhalte auch jenseits der Politik zu verankern. \nMit der neusten Handre­ichung POPKULTUR VON RECHTS des Projekts Narrativ-Check: Was hinter radikalisierenden Botschaften steckt werfen wir einen Blick auf verschiedene Facetten von rechter Popkultur sowie Strategien der Verein­nahmung von rechts. Was sind extrem rechte Subkul­turen? Was macht Popkul­turen anschlussfähig nach rechts? Wie funktioniert „Normal­isierung“ im Kulturbereich? Wo steckt dort antidemokratisches Potenzial? \nAnlässlich der Veröf­fentlichung unserer Handre­ichung disku­tieren wir darüber mit unserem Gast Felix Schilk\, Soziologe und Experte für Recht­sex­trem­ismus und Antisemitismus. \n  \nANMELDUNG \nWir freuen uns über Ihre Teilnahme. Bitte melden Sie sich bis zum 04.12.2024 unter diesem Link an: \nhttps://bit.ly/4hVOcLq
URL:https://libmod.de/en/kalender/online-praesentation-der-handreichung-popkultur-von-rechts/
ATTACH;FMTTYPE=image/jpeg:https://libmodredaktion.fra1.digitaloceanspaces.com/wp-content/uploads/20241125154259/Header-2.jpg
END:VEVENT
BEGIN:VEVENT
DTSTART;TZID=Europe/Berlin:20241203T180000
DTEND;TZID=Europe/Berlin:20241203T200000
DTSTAMP:20260421T223423
CREATED:20250221T095503Z
LAST-MODIFIED:20250221T095519Z
UID:70338-1733248800-1733256000@libmod.de
SUMMARY:Der Preis der Meinungsfreiheit: Verfolgte AktivistInnen und JournalistInnen auf der besetzten Krim
DESCRIPTION:  \nSeit der Besatzung der Krim im Februar 2014 hat Russland die Meinungs­freiheit und den unabhängigen Journal­ismus auf der Halbinsel zerstört – durch Drohungen\, Festnahmen\, Entführungen und dem Zwang zur Ausreise. Mit Nariman Dzhelyal\, krimtatarischer Journalist\, Aktivist und ehema­liger politischer Gefan­gener\, und unseren Gästen\, disku­tieren wir über die aktuelle Lage der verfolgten Aktivist:innen und Journalist:innen auf der besetzten Krim und gehen der Frage nach\, wie die Lage verändert werden kann.\nDienstag\, 03.12.2024\, 18:00 Uhr\nDeutscher Bundestag\, Marie-Elisabeth-Lüders-Haus\nAdele-Schreiber-Krieger-Straße 1\, 10117 Berlin \n  \n 
URL:https://libmod.de/en/kalender/der-preis-der-meinungsfreiheit-verfolgte-aktivistinnen-und-journalistinnen-auf-der-besetzten-krim/
LOCATION:Deutscher Bundestag\, Marie-Elisabeth-Lüders-Haus\, Adele-Schreiber-Krieger-Straße 1\, Berlin\, 10117\, Germany
ATTACH;FMTTYPE=image/jpeg:https://libmodredaktion.fra1.digitaloceanspaces.com/wp-content/uploads/20241122121715/800_Verfolgte.jpg
END:VEVENT
BEGIN:VEVENT
DTSTART;TZID=Europe/Berlin:20241128T163000
DTEND;TZID=Europe/Berlin:20241128T180000
DTSTAMP:20260421T223423
CREATED:20250221T095527Z
LAST-MODIFIED:20250221T095527Z
UID:70339-1732811400-1732816800@libmod.de
SUMMARY:Stakeholder-Dialoge Carbon Management - Negative Emissionen:  Wege in eine netto-negative Klimawelt
DESCRIPTION:  \nSehr geehrte Damen und Herren\,\nliebe Freundinnen und Freunde\, \n\nherzlich möchten wir Sie einladen zu unserem Fachgespräch: \n„Welche Indus­triepolitik entfacht CO2-Entnahme?“ \n28. November\, 16.30 — 18.00 Uhr\nSAP Data Space/​The Byte\nRosen­thaler Straße 38\n10178 Berlin \nEine durch den Deutschen Verband für negative Emissionen beauf­tragte Studie schätzt\, dass die deutsche CO2-Entnahme-Industrie das Potenzial hat\, bis 2050 einen Wert von 70 Milliarden Euro jährlich zu erreichen. Es können zudem mehrere Zehntausend Arbeit­splätze entstehen. Das Potsdam Institut für Klimafol­gen­forschung geht davon aus\, dass die CO2-Entnahme in der zweiten Hälfte des Jahrhun­derts zwischen 0\,3 und 3 Prozent der globalen Wirtschaft­sleistung ausmachen wird. \nAber\, wie können diese enormen Poten­ziale realisiert werden? Mit welchen politischen Maßnahmen soll die Branche flankiert werden? Insbesondere im Hinblick auf die aktuelle Wirtschafts­flaute\, die kommendes Jahr anste­hende Bundestagswahl und die vielen Vorschläge darüber\, wie die notwendigen Investi­tionen in Infra­struktur und Indus­tri­etrans­for­mation finanziert werden können\, stellt sich die Frage\, wie Deutschland das Thema CO2-Entnahme indus­triepoli­tisch angehen soll. \n  \nAblauf  \n16:00 Uhr Einlass \n16:30 Uhr Begrüßung & Moderation \nLukas Daubner\, Programm­leiter Ökolo­gische Moderne\, LibMod \n16:35 Uhr Inputs \n\nCara Bien\, Refer­entin Energie- und Klimapolitik\, BDI\nMarian Krüger\, Gründer und Leiter\, remove\nPascal Hader-Weinmann\, Teamleiter Strategie und Grund­satzfragen\, Dena\n\n17:10 Uhr Kommentare aus der Politik  \n\nOlaf in der Beek\, FDP\nRobin Mesarosch\, SPD (tbc)\nHenning Rehbaum\, CDU (tbc)\nArmin Grau\, Grüne (tbc)\n\n17:30 Uhr Diskussion mit allen Teilnehmenden \nModer­ation: Lukas Daubner\, Zentrum Liberale Moderne \n18:00 Uhr Networking\, Buffet  \n18:30 Uhr Ende der Veranstaltung \n\nInter­essierte melden sich bitte bei Julia Hönnecke (julia.hoennecke@libmod.de). \n\nHerzliche Grüße\, auch von Ralf Fücks\, \nLukas Daubner\, Julia Hönnecke\, Aysel Aliyeva  \n 
URL:https://libmod.de/en/kalender/stakeholder-dialoge-carbon-management-negative-emissionen-wege-in-eine-netto-negative-klimawelt/
LOCATION:SAP Data Space\, Rosenthaler Str. 38\, Berlin\, 10178
ATTACH;FMTTYPE=image/jpeg:https://libmodredaktion.fra1.digitaloceanspaces.com/wp-content/uploads/20241031224647/800_CDR_Chemie-1.jpg
END:VEVENT
BEGIN:VEVENT
DTSTART;TZID=Europe/Berlin:20241121T190000
DTEND;TZID=Europe/Berlin:20241121T203000
DTSTAMP:20260421T223423
CREATED:20250221T095537Z
LAST-MODIFIED:20250221T095537Z
UID:70340-1732215600-1732221000@libmod.de
SUMMARY:Desinformation als politische Herausforderung
DESCRIPTION:
URL:https://libmod.de/en/kalender/desinformation-als-politische-herausforderung/
LOCATION:Vertretung des Landes Nordrhein-Westfalen beim Bund\, Hiroshimastr. 12-16\, Berlin\, Berlin\, 10785
ATTACH;FMTTYPE=image/jpeg:https://libmodredaktion.fra1.digitaloceanspaces.com/wp-content/uploads/20241116030136/Transformation_1200x800.jpg
END:VEVENT
BEGIN:VEVENT
DTSTART;TZID=Europe/Berlin:20241113T090000
DTEND;TZID=Europe/Berlin:20241113T163000
DTSTAMP:20260421T223423
CREATED:20241030T145151Z
LAST-MODIFIED:20250221T094911Z
UID:66992-1731488400-1731515400@libmod.de
SUMMARY:Die EU-Erweiterung im Spannungsfeld von Geopolitik\, Reformauflagen und Aufnahmefähigkeit
DESCRIPTION:
URL:https://libmod.de/en/kalender/die-eu-erweiterung-im-spannungsfeld-von-geopolitik-reformauflagen-und-aufnahmefaehigkeit/
ATTACH;FMTTYPE=image/jpeg:https://libmodredaktion.fra1.digitaloceanspaces.com/wp-content/uploads/20241030132303/DJI_0251_1200x800.jpg
END:VEVENT
BEGIN:VEVENT
DTSTART;TZID=Europe/Berlin:20241107T190000
DTEND;TZID=Europe/Berlin:20241107T203000
DTSTAMP:20260421T223423
CREATED:20250221T095546Z
LAST-MODIFIED:20250221T095546Z
UID:70341-1731006000-1731011400@libmod.de
SUMMARY:EUROPEAN BOOK CLUB – Does Liberalism Have a Future? And Does It Look Like Its Past?
DESCRIPTION:
URL:https://libmod.de/en/kalender/european-book-club-does-liberalism-have-a-future-and-does-it-look-like-its-past-2/
LOCATION:Zentrum Liberale Moderne\, Reinhardtstraße 15\, Berlin\, 10117\, Germany
ATTACH;FMTTYPE=image/jpeg:https://libmodredaktion.fra1.digitaloceanspaces.com/wp-content/uploads/20241021224435/European_Bookclub_1200x800_tk-2.jpg
END:VEVENT
BEGIN:VEVENT
DTSTART;TZID=Europe/Berlin:20241107T190000
DTEND;TZID=Europe/Berlin:20241107T203000
DTSTAMP:20260421T223423
CREATED:20241021T222712Z
LAST-MODIFIED:20241021T222712Z
UID:66710-1731006000-1731011400@libmod.de
SUMMARY:EUROPEAN BOOK CLUB – Does Liberalism Have a Future? And Does It Look Like Its Past?
DESCRIPTION:
URL:https://libmod.de/en/kalender/european-book-club-does-liberalism-have-a-future-and-does-it-look-like-its-past/
LOCATION:Zentrum Liberale Moderne\, Reinhardtstraße 15\, Berlin\, 10117\, Germany
ATTACH;FMTTYPE=image/jpeg:https://libmodredaktion.fra1.digitaloceanspaces.com/wp-content/uploads/20241021224435/European_Bookclub_1200x800_tk-2.jpg
END:VEVENT
BEGIN:VEVENT
DTSTART;TZID=Europe/Berlin:20241028T190000
DTEND;TZID=Europe/Berlin:20241028T210000
DTSTAMP:20260421T223423
CREATED:20250221T095552Z
LAST-MODIFIED:20250221T095552Z
UID:70342-1730142000-1730149200@libmod.de
SUMMARY:Die EU und Georgien – Was folgt aus der Wahl?
DESCRIPTION:
URL:https://libmod.de/en/kalender/die-eu-und-georgien-was-folgt-aus-der-wahl/
LOCATION:Vertretung der Europäischen Kommission Berli\, Unter den Linden 78
ATTACH;FMTTYPE=image/jpeg:https://libmodredaktion.fra1.digitaloceanspaces.com/wp-content/uploads/20241009194826/800_Georgien_EU-Flagge-1.jpg
END:VEVENT
BEGIN:VEVENT
DTSTART;TZID=Europe/Berlin:20241016T123000
DTEND;TZID=Europe/Berlin:20241016T203000
DTSTAMP:20260421T223423
CREATED:20250221T095557Z
LAST-MODIFIED:20250221T095557Z
UID:70343-1729081800-1729110600@libmod.de
SUMMARY:Welcher Frieden? Die Ukraine und wir
DESCRIPTION:Russland und seine inter­na­tionalen Verbün­deten bereiten sich auf eine langfristige Konfrontation vor. Dagegen mangelt es dem Westen immer noch an Entschlossenheit und Dringlichkeit des Handelns. Zu strate­gischen Fragen wie dem angestrebten Ausgang des Krieges\, der NATO-Mitglied­schaft der Ukraine und der künftigen Russland­politik gibt es divergierende Antworten. \nDie Konferenz soll vor allem drei große Themen disku­tieren: (1) die Bedeutung dieses Krieges für die Zukunft Europas und die strate­gischen Ziele des Westens (2) den Stand des Krieges und die militärische Unter­stützung der Ukraine und (3) die Integration der Ukraine in die EU und die transat­lantische Allianz. Ein weiteres Thema wird die energiewirtschaftliche Kooper­ation mit der Ukraine sein. \nProgramm und Anmeldung werden Anfang September online gestellt.
URL:https://libmod.de/en/kalender/welcher-frieden-die-ukraine-und-wir/
LOCATION:Atrium Reinhardt­straßenhöfe\, Reinhardtstraße 14\, Berlin\, 10117
ATTACH;FMTTYPE=image/jpeg:https://libmodredaktion.fra1.digitaloceanspaces.com/wp-content/uploads/20240905104538/whatkindofpeace_800.jpg
END:VEVENT
BEGIN:VEVENT
DTSTART;TZID=Europe/Berlin:20241008T190000
DTEND;TZID=Europe/Berlin:20241008T210000
DTSTAMP:20260421T223423
CREATED:20250221T095605Z
LAST-MODIFIED:20250221T095605Z
UID:70344-1728414000-1728421200@libmod.de
SUMMARY:Podiumsdiskussion: Riss durch Europa? Postsowjetische Erinnerungen an den Zweiten Weltkrieg
DESCRIPTION:Die mit dem deutschen Überfall am 22. Juni 1941 begin­nende Besatzungs- und Vernich­tung­sherr-schaft während des Zweiten Weltkriegs bedeutete für das östliche Europa eine nie dagewesene Zäsur. Allein in der Sowje­tunion forderte der Krieg rund 27 Millionen Menschen­leben. Im deutschen historischen Gedächtnis ist das Wissen über den „Holocaust durch Kugeln“\, das Massen­sterben sowjetischer Kriegs­ge­fan­gener und die „Verbrannten Dörfer“ jedoch nach wie vor gering. \nAm 1. September 2024 jährt sich der deutsche Überfall auf Polen als Beginn des Zweiten Weltkriegs zum 85. Mal. Zugleich führt Russland seit dem 24. Februar 2022 einen vollum­fänglichen Krieg gegen die Ukraine\, der auf die Vernichtung der Existenz der Ukraine abzielt. Vor diesem Hinter­grund möchten wir mit der Veranstaltung den Blick auf zwei Gruppen werfen\, die seit dem Ende der Sowje­tunion nach Deutschland einge­wandert sind: Russland­deutsche (Spät-) Aussiedler:innen und jüdische Kontin­gent­flüchtlinge. Wie erinnern sie sich an den Zweiten Weltkrieg\, mit welchen Erinnerungen sind sie in der Sowje­tunion sozial­isiert worden und wie fühlen sie sich von der bundes­deutschen Erinnerungskultur angesprochen? Wie blicken sie auf den Krieg Russlands gegen die Ukraine? \nPodium: \nAnke Hilbrenner (Heinrich-Heine-Univer­sität Düsseldorf) \nAlexander Friedmann (Heinrich-Heine-Univer­sität Düsseldorf/​Universität des Saarlandes) \nHans-Christian Petersen (Bundesin­stitut für Kultur und Geschichte des östlichen Europa Oldenburg) \nMelitta L. Roth (Russland­deutsche Autorin\, Hamburg) \nModer­ation: Erica Zingher \nAnmeldung per E‑Mail an: kontakt@museum-karlshorst.de
URL:https://libmod.de/en/kalender/podiumsdiskussion-riss-durch-europa-postsowjetische-erinnerungen-an-den-zweiten-weltkrieg/
LOCATION:Museum Berlin-Karlshorst\, Zwieseler Straße 4\, Berlin\, 10318
ATTACH;FMTTYPE=image/jpeg:https://libmodredaktion.fra1.digitaloceanspaces.com/wp-content/uploads/20240905104527/Ankuendigung-Podium-Karlshorst-8.-Oktober.jpg
END:VEVENT
BEGIN:VEVENT
DTSTART;TZID=Europe/Berlin:20241007T180000
DTEND;TZID=Europe/Berlin:20241007T200000
DTSTAMP:20260421T223423
CREATED:20250221T095613Z
LAST-MODIFIED:20250221T095613Z
UID:70345-1728324000-1728331200@libmod.de
SUMMARY:EUROPEAN BOOK CLUB – „Putins Angriff auf Deutschland: Desinformation\, Propaganda\, Cyberattacken“
DESCRIPTION:
URL:https://libmod.de/en/kalender/european-book-club-putins-angriff-auf-deutschland-desinformation-propaganda-cyberattacken/
LOCATION:Zentrum Liberale Moderne\, Reinhardtstraße 15\, Berlin\, 10117\, Germany
ATTACH;FMTTYPE=image/jpeg:https://libmodredaktion.fra1.digitaloceanspaces.com/wp-content/uploads/20240919234447/European_Bookclub_1200x800_tk-1.jpg
END:VEVENT
BEGIN:VEVENT
DTSTART;TZID=Europe/Berlin:20240926T113000
DTEND;TZID=Europe/Berlin:20240927T190000
DTSTAMP:20260421T223423
CREATED:20250221T095622Z
LAST-MODIFIED:20250221T095622Z
UID:70346-1727350200-1727463600@libmod.de
SUMMARY:Antiosteuropäischer Rassismus: Brauchen wir eine „Osterweiterung“ der Rassismusdebatte?
DESCRIPTION:Am 26. und 27. September findet die Abschlusstagung des Forschung­spro­jekts „Diskri­m­inierung von Menschen osteu­ropäischer Herkunft auf dem Arbeits­markt: Insti­tu­tionelle und individuelle Kontexte“. Wir sind mit o[s]tklick auf einem Panel vertreten\, ein weiteres Panel stellen wir euch im Anschluss zum Nachhören und ‑sehen als Videopodcast zur Verfügung. \nVeranstaltet wird die Tagung von Jure Leko (BKGE Oldenburg)\, Aleksandra Lewicki (University of Sussex)\, Jannis Panagi­o­tidis (RECET Wien) und Hans-Christian Petersen (BKGE Oldenburg). Die Antidiskri­m­inierungsstelle des Bundes hat das Projekt gefördert und richtet auch die die Tagung mit aus. \nOrt: Konferenzzentrum Mauer­straße\, Mauer­straße 27\, 10117 Berlin \nAnmeldung und Programm: \nhttps://www.bkge.de/veranstaltungen/antiosteuropaeischer-rassismus-brauchen-wir-eine-osterweiterung-der-rassismusdebatte
URL:https://libmod.de/en/kalender/antiosteuropaeischer-rassismus-brauchen-wir-eine-osterweiterung-der-rassismusdebatte/
LOCATION:Konferenzzentrum Mauer­straße\, Mauerstraße 27\, Berlin\, 10117
ATTACH;FMTTYPE=image/png:https://libmodredaktion.fra1.digitaloceanspaces.com/wp-content/uploads/20240905104539/Konferenz_Antislawismus.png
END:VEVENT
BEGIN:VEVENT
DTSTART;TZID=Europe/Berlin:20240925T103000
DTEND;TZID=Europe/Berlin:20240925T113000
DTSTAMP:20260421T223423
CREATED:20250221T095628Z
LAST-MODIFIED:20250221T095628Z
UID:70347-1727260200-1727263800@libmod.de
SUMMARY:Nach den Landtagswahlen: Wohin steuern Sachsen\, Thüringen und Brandenburg?
DESCRIPTION:Einladung zur Online-Veranstaltung: \nNach den Landtagswahlen: Wohin steuern Sachsen\, Thüringen und Brandenburg?\nmit Marco Wanderwitz und Marianne Birthler und Ralf Fücks \n\nDatum: Mittwoch\, den 25.09.2024\nUhrzeit: 10:30–11:30\nOrt: Online-Veranstaltung (Teilnah­melink wird nach Anmeldung verschickt) \n  \nDie Wahlen in Sachsen und Thüringen haben die politische Landschaft erschüttert\, und die anste­hende Regierungs­bildung birgt weiteren Sprengstoff.  Gemeinsam mit unseren Gästen Marco Wanderwitz (CDU /​CSU) und Marianne Birthler (Bündnis 90/​Die Grünen) möchten wir die Wahlergeb­nisse einordnen und politische Antworten disku­tieren. Ralf Fücks wird die Veranstaltung moderieren. \nUnter anderem soll es um folgende Fragen gehen: \n\nWelchen Reim machen wir uns auf die Wahlergeb­nisse und was bedeuten sie für die politische Landschaft in Ostdeutschland?\nWaren bestimmte politische Themen entscheidend für das Wahlver­halten oder ging es eher um eine Gener­al­abrechnung mit der Ampelkoalition und eine Misstrauenserk­lärung gegen die liberale Demokratie?\nWie sollten die demokratischen Parteien auf die Ergeb­nisse reagieren und welche Strategien könnten dabei erfol­gver­sprechend sein? Was heißt das für die Regierungsbildung?\nWelche Auswirkungen haben die Wahlergeb­nisse auf die Bundespolitik?\n\nWir freuen uns auf Ihre Teilnahme. Melden Sie sich bitte über den Anmeldelink an\, um die Zugangs­daten zur Veranstaltung zu erhalten. \nUnsere Gäste: \nMarco Wanderwitz (CDU /​ CSU\, Mitglied des Bundestages\, war von 2020 bis 2021 Ostbeauf­tragter der Bundesregierung und war Parla­men­tarischer Staatssekretär in zwei Bundesministerien.) \nMarianne Birthler (Bündnis 90/​Die Grünen\, von 2000 bis 2011 die Bundes­beauf­tragte für die Unter­lagen des Staatssicher­heits­di­enstes der ehema­ligen DDR. Sie war eine der Akteurinnen der Freiheit­srev­o­lution von 1989\, Minis­terin in Brandenburg und Vorsitzende der Partei Bündnis 90/​Die Grünen). \nModer­ation:\nRalf Fücks\nGründer und geschäfts­führender Gesellschafter\, Zentrum Liberale Moderne
URL:https://libmod.de/en/kalender/nach-den-landtagswahlen-wohin-steuern-sachsen-thueringen-und-brandenburg/
ATTACH;FMTTYPE=image/jpeg:https://libmodredaktion.fra1.digitaloceanspaces.com/wp-content/uploads/20240905104505/imago0758641311h_1200x800.jpg
END:VEVENT
BEGIN:VEVENT
DTSTART;TZID=Europe/Berlin:20240914T160000
DTEND;TZID=Europe/Berlin:20240914T190000
DTSTAMP:20260421T223423
CREATED:20250221T095635Z
LAST-MODIFIED:20250221T095635Z
UID:70348-1726329600-1726340400@libmod.de
SUMMARY:Open Stage & Get Together
DESCRIPTION:Wir laden euch herzlich ein zur Open Stage Nachmit­tagsedition. Euch erwarten tolle Beiträge aus der Community: Musik\, Lesung\, Ausstellung und mehr. Für Kaffee\, Limo und Kuchen sorgen wir. Es wird danach und während­dessen Zeit zum Austausch geben. Der Eintritt ist frei. Die Veranstaltung findet in Kooper­ation mit dem Kultur­referat für Russland­deutsche statt. Ihr könnt euch per E‑Mail an ostklick@libmod.de anmelden. Wir freuen uns auf Euch!
URL:https://libmod.de/en/kalender/open-stage-get-together/
LOCATION:Lew Kopelew Forum\, Neumarkt 18\, Köln\, 50667
ATTACH;FMTTYPE=image/jpeg:https://libmodredaktion.fra1.digitaloceanspaces.com/wp-content/uploads/20240905104540/Ankuendigung_Get_Together_Open_Stage.jpg
END:VEVENT
BEGIN:VEVENT
DTSTART;TZID=Europe/Berlin:20240909T150000
DTEND;TZID=Europe/Berlin:20240909T170000
DTSTAMP:20260421T223423
CREATED:20240703T131127Z
LAST-MODIFIED:20240703T131127Z
UID:65862-1725894000-1725901200@libmod.de
SUMMARY:Georgien hat die Wahl: Russland oder Europa
DESCRIPTION:
URL:https://libmod.de/en/kalender/georgien-hat-die-wahl-russland-oder-europa/
LOCATION:Akademie der Konrad-Adenauer-Stiftung\, Tiergartenstraße 35\, Berlin\, 10785
ATTACH;FMTTYPE=image/jpeg:https://libmodredaktion.fra1.digitaloceanspaces.com/wp-content/uploads/20240905104539/Georgien_RU_800.jpg
END:VEVENT
END:VCALENDAR